BEGIN:VCALENDAR
VERSION:2.0
PRODID:-//Volt Europa//Events//EN
CALSCALE:GREGORIAN
METHOD:PUBLISH
BEGIN:VEVENT
UID:window-wanderland-knutselmiddag-lv-1770469200@voltnederland.org
DTSTAMP:20260424T030939Z
DTSTART;TZID=Europe/Amsterdam:20260207T140000
DTEND;TZID=Europe/Amsterdam:20260207T160000
SUMMARY:Window Wanderland Knutselmiddag LV
DESCRIPTION:Op 28 feb en 1 maart is er een mooi initiatief in onze gemeente
 : Window Wanderland.  Inwoners organiseren samen met Woej en de cultuurmake
 laar een bottum-up evenement: inwoners melden zich aan\, versieren hun raam
  (thema 'Hoop') en doordat zij hun adressen op een kaart aangeven\, kunnen 
 geinteresseerden op 2 avonden een mooie route langs de creatieve ramen lope
 n.  Wij doen graag mee! En organiseren een knutselmiddag\, open voor alle l
 eeftijden! Het thema past goed bij Volt. Creativiteit ook. En ini
LOCATION:Wijkcentrum de Boot\, Duivesteijnstraat 22 Voorburg
URL:https://voltnederland.org/zuid-holland/agenda/window-wanderland-knutsel
 middag-lv
END:VEVENT
END:VCALENDAR
