BEGIN:VCALENDAR
VERSION:2.0
PRODID:-//Volt Europa//Events//EN
CALSCALE:GREGORIAN
METHOD:PUBLISH
BEGIN:VEVENT
UID:werkbezoek-pauluskerk-rotterdam-1736965800@voltnederland.org
DTSTAMP:20260423T144355Z
DTSTART;TZID=Europe/Amsterdam:20250115T193000
DTEND;TZID=Europe/Amsterdam:20250115T210000
SUMMARY:Werkbezoek Pauluskerk Rotterdam
DESCRIPTION:English below: De themagroep Migratie en Integratie organiseert
  op woensdagavond 15 januari een werkbezoek aan de Pauluskerk in Rotterdam.
  Deze organisatie biedt belangrijke hulp\, zoals bed\, bad en brood\, aan u
 itgeprocedeerde asielzoekers en daklozen. Tijdens dit bezoek willen we niet
  alleen leren van hun aanpak\, maar ook onderzoeken wat Den Haag kan doen v
 oor vergelijkbare groepen mensen in onze stad. We kijken daarnaast naar wat
  Den Haag al doet en hoe we bestaande initiatieven kunnen versterk
LOCATION:Pauluskerk Mauritsweg 20 Rotterdam
URL:https://voltnederland.org/zuid-holland/agenda/werkbezoek-pauluskerk-rot
 terdam
END:VEVENT
END:VCALENDAR
