BEGIN:VCALENDAR
VERSION:2.0
PRODID:-//Volt Europa//Events//EN
CALSCALE:GREGORIAN
METHOD:PUBLISH
BEGIN:VEVENT
UID:werkbezoek-over-luchtkwaliteit-met-volt-en-de-provincie-1742230800@volt
 nederland.org
DTSTAMP:20260423T114415Z
DTSTART;TZID=Europe/Amsterdam:20250317T180000
DTEND;TZID=Europe/Amsterdam:20250317T210000
SUMMARY:Werkbezoek over luchtkwaliteit met Volt en de Provincie
DESCRIPTION:ENGLISH BELOW:  De themagroep Klimaat\, duurzame energie\, natu
 ur en biodiversiteit en de provinciale fractie van Zuid-Holland\, plannen 1
 7 maart een werkbezoek over de luchtkwaliteit in onze stad. Dit bezoek dien
 t om beleid te baseren op feiten en inzichten van experts. Tijdens dit werk
 bezoek spreken we met Martin van Raay van het Kenniscentrum Houtrookoverlas
 t over luchtvervuiling en de gevolgen van houtstook. Daarnaast bespreken we
  de lopende rechtszaak die MOB (Mobilisation for the Environment)
LOCATION:Provinciehuis\, Zuid Hollandplein 1\, 2596 AW Den Haag
URL:https://voltnederland.org/zuid-holland/agenda/werkbezoek-over-luchtkwal
 iteit-met-volt-en-de-provincie
END:VEVENT
END:VCALENDAR
