BEGIN:VCALENDAR
VERSION:2.0
PRODID:-//Volt Europa//Events//EN
CALSCALE:GREGORIAN
METHOD:PUBLISH
BEGIN:VEVENT
UID:vrijwilligers-gezocht-voor-het-vadercentrum-1751468400@voltnederland.or
 g
DTSTAMP:20260423T114310Z
DTSTART;TZID=Europe/Amsterdam:20250702T170000
DTEND;TZID=Europe/Amsterdam:20250702T203000
SUMMARY:Vrijwilligers gezocht voor het Vadercentrum!
DESCRIPTION:ENGLISH BELOW Zoals ieder jaar helpt Volt weer mee bij het Vade
 rcentrum in Laak bij de grote barbecue waar zo’n 1000 mensen samenkomen. 
 Een prachtig event en alle hulp is welkom\, ook als je maar een kwartiertje
  kunt.  Dus ook dit jaar zoeken we nog Volt-vrijwilligers voor woensdag 2 
 juli. Wil jij helpen? Stuur dan even een berichtje via denhaag@voltnederlan
 d.org De BBQ begint tussen 17:00 en 17:30 Het belooft mooi weer te worden! 
 Zin om te helpen of gewoon even langs te komen? Laat het me weten.
LOCATION:Jonckbloetplein 24\, 2523 AR Den Haag
URL:https://voltnederland.org/zuid-holland/agenda/vrijwilligers-gezocht-voo
 r-het-vadercentrum
END:VEVENT
END:VCALENDAR
