BEGIN:VCALENDAR
VERSION:2.0
PRODID:-//Volt Europa//Events//EN
CALSCALE:GREGORIAN
METHOD:PUBLISH
BEGIN:VEVENT
UID:voorstellen-van-volt-lv-1769713200@voltnederland.org
DTSTAMP:20260423T174025Z
DTSTART;TZID=Europe/Amsterdam:20260129T200000
DTEND;TZID=Europe/Amsterdam:20260129T213000
SUMMARY:Voorstellen van Volt LV
DESCRIPTION:Op  29 januari  nodigt  Volt Leidschendam-Voorburg  je van hart
 e uit voor de voorstelavond van onze kandidaten voor de gemeenteraadsverkie
 zingen. Een open avond voor leden én andere geïnteresseerden die willen w
 eten wie wij zijn\, waar we voor staan en hoe we samen kunnen bouwen aan ee
 n sterke\, toekomstgerichte gemeente. Tijdens deze avond maken onze kandida
 ten persoonlijk kennis met jou. Zij delen hun motivatie om zich in te zette
 n voor Leidschendam-Voorburg\, hun ideeën voor de toekomst en hun v
LOCATION:De Hoeksteen (Rozenboomlaan 119\, Voorburg)
URL:https://voltnederland.org/zuid-holland/agenda/voorstellen-van-volt-lv
END:VEVENT
END:VCALENDAR
