BEGIN:VCALENDAR
VERSION:2.0
PRODID:-//Volt Europa//Events//EN
CALSCALE:GREGORIAN
METHOD:PUBLISH
BEGIN:VEVENT
UID:volt-violet-borrel-1730919600@voltnederland.org
DTSTAMP:20260423T102047Z
DTSTART;TZID=Europe/Amsterdam:20241106T200000
DTEND;TZID=Europe/Amsterdam:20241106T230000
SUMMARY:Volt Violet Borrel
DESCRIPTION:Op woensdag 6 november organiseert Volt Violet weer een communi
 tyborrel. Kom langs\, en ontmoet je mede-Volters of ga in gesprek met lokal
 e bestuursleden. De borrel wordt gehouden in café Stalles te Rotterdam en 
 begint om 20.00 uur. Wij hopen jullie met velen te mogen ontvangen\; het ee
 rste drankje krijg je van ons.
LOCATION:Cafe Stalles - Rotterdam
URL:https://voltnederland.org/agenda/volt-violet-borrel
END:VEVENT
END:VCALENDAR
