BEGIN:VCALENDAR
VERSION:2.0
PRODID:-//Volt Europa//Events//EN
CALSCALE:GREGORIAN
METHOD:PUBLISH
BEGIN:VEVENT
UID:volt-op-het-plein-van-de-vrijheid-tijdens-het-haagse-bevrijdingsfestiva
 l-5-mei-1746439200@voltnederland.org
DTSTAMP:20260423T174505Z
DTSTART;TZID=Europe/Amsterdam:20250505T120000
DTEND;TZID=Europe/Amsterdam:20250505T173000
SUMMARY:Volt op het ‘Plein van de Vrijheid’ tijdens het Haagse Bevrijdi
 ngsfestival 5 mei
DESCRIPTION:Op maandag 5 mei nemen we als Volt Den Haag deel aan het 'Plein
  van de Vrijheid'\, als onderdeel van het Bevrijdingsfestival Den Haag op h
 et Malieveld. Op het ‘Plein van de Vrijheid’ laten veel organisaties zi
 en wat ze doen aan vrede\, vrijheid\, democratie\, mensenrechten en toleran
 tie. Het is de bedoeling om met bezoekers in gesprek te gaan over wie we zi
 jn en waar we voor staan\, met een blik richting de gemeenteraadsverkiezing
 en in 2026\, waar we als Volt Den Haag aan willen deelnemen! We geven er
LOCATION:Malieveld
URL:https://voltnederland.org/zuid-holland/agenda/volt-op-het-plein-van-de-
 vrijheid-tijdens-het-haagse-bevrijdingsfestival-5-mei
END:VEVENT
END:VCALENDAR
