BEGIN:VCALENDAR
VERSION:2.0
PRODID:-//Volt Europa//Events//EN
CALSCALE:GREGORIAN
METHOD:PUBLISH
BEGIN:VEVENT
UID:volt-op-bevrijdingsfestival-1714903200@voltnederland.org
DTSTAMP:20260423T114107Z
DTSTART;TZID=Europe/Amsterdam:20240505T120000
DTEND;TZID=Europe/Amsterdam:20240505T180000
SUMMARY:Volt op Bevrijdingsfestival
DESCRIPTION:Zondag 5 mei is het tijd voor het Bevrijdingsfestival in Den Ha
 ag op het Malieveld! Volt is uitgenodigd om deel te nemen met een kraam op 
 de informatiemarkt op het "Plein van de Vrijheid". Op het Plein van de Vrij
 heid presenteert een groot aantal organisaties zich\, die actief zijn op he
 t gebied van vrede\, vrijheid\, democratie\, mensenrechten\, tolerantie\, e
 t cetera.  Dit is het uitgelezen moment om onze beweging te laten zien en o
 m met bezoekers in gesprek te gaan over wie wij zijn en waar wij voo
LOCATION:Malieveld\, Den Haag
URL:https://voltnederland.org/zuid-holland/agenda/volt-op-bevrijdingsfestiv
 al
END:VEVENT
END:VCALENDAR
