BEGIN:VCALENDAR
VERSION:2.0
PRODID:-//Volt Europa//Events//EN
CALSCALE:GREGORIAN
METHOD:PUBLISH
BEGIN:VEVENT
UID:volt-luistert-in-de-regio-1759579200@voltnederland.org
DTSTAMP:20260423T114048Z
DTSTART;TZID=Europe/Amsterdam:20251004T140000
DTEND;TZID=Europe/Amsterdam:20251004T180000
SUMMARY:Volt luistert in de regio
DESCRIPTION:️Ben jij Volt-lid in Voorne aan Zee\, Schiedam\, Capelle of L
 ansingerland? Dan hebben we jou nodig! Volt luistert in de regio! De komend
 e weken gaat Volt Rotterdam-ZHZ de straat op in vier gemeenten rondom Rotte
 rdam. Niet om te zenden\, maar om te luisteren: wat leeft er écht bij bewo
 ners? Welke zorgen\, dromen en ideeën zijn er over hun stad of dorp? Denk 
 aan thema’s als: veiligheid in de buurt afval en schone straten vergroeni
 ng van de omgeving vrouwvriendelijkheid van de stad  Woon jij in één van
LOCATION:Lansingerland
URL:https://voltnederland.org/zuid-holland/agenda/volt-luistert-in-de-regio
END:VEVENT
END:VCALENDAR
