BEGIN:VCALENDAR
VERSION:2.0
PRODID:-//Volt Europa//Events//EN
CALSCALE:GREGORIAN
METHOD:PUBLISH
BEGIN:VEVENT
UID:volt-hardloopgroepje-1725379200@voltnederland.org
DTSTAMP:20260423T143159Z
DTSTART;TZID=Europe/Amsterdam:20240903T180000
DTEND;TZID=Europe/Amsterdam:20240903T193000
SUMMARY:Volt-hardloopgroepje
DESCRIPTION:Goed nieuws voor alle sportieve leden van Volt Den Haag: er kom
 t een Volt Den Haag-hardloopgroep! Sommige leden van Volt Den Haag hadden d
 e wens wat meer betrokken te zijn bij de activiteiten buiten de formele\, v
 ergaderachtige setting om. En hoe beter dan met een hardloopgroep? De groep
  komt elke donderdag samen bij het Pannenkoekenrestaurant op het Malieveld 
 voor een ontspannen rondje door het Haagse Bos. Voor wie meer uitdaging zoe
 kt\, kan de route worden uitgebreid richting Marlot of Clingenda
LOCATION:Pannenkoekenrestaurant op het Malieveld.
URL:https://voltnederland.org/zuid-holland/agenda/volt-hardloopgroepje
END:VEVENT
END:VCALENDAR
