BEGIN:VCALENDAR
VERSION:2.0
PRODID:-//Volt Europa//Events//EN
CALSCALE:GREGORIAN
METHOD:PUBLISH
BEGIN:VEVENT
UID:volt-academy-dh-congo-uitgelegd-waarom-dit-conflict-ons-allemaal-aangaa
 t-1752514200@voltnederland.org
DTSTAMP:20260423T114543Z
DTSTART;TZID=Europe/Amsterdam:20250714T193000
DTEND;TZID=Europe/Amsterdam:20250714T220000
SUMMARY:Volt Academy DH | Congo uitgelegd: waarom dit conflict ons allemaal
  aangaat
DESCRIPTION:ENGLISH BELOW: Congo is rijk aan grondstoffen. Maar achter die 
 natuurlijke bodemschatten schuilt een rauwe realiteit: het lijden van miljo
 enen mensen in Congo. Terwijl het oog van de wereld gericht is op het Midde
 n-Oosten\, verdwijnt Congo verder uit beeld. Op maandag 14 juli duiken we m
 et Ewing Amadi Salumu (journalist en oprichter van RuziziNL en lid van het 
 Mayele Institute\, een denktank van Congolese strategen) en Gaetan Mbwete (
 Stichting Wij Zijn Congolezen) in het vergeten conflict dat mede
LOCATION:Volt-partijkantoor\, Koninginnegracht 7\, 2514 AA Den Haag
URL:https://voltnederland.org/zuid-holland/agenda/volt-academy-dh-congo-uit
 gelegd-waarom-dit-conflict-ons-allemaal-aangaat
END:VEVENT
END:VCALENDAR
