BEGIN:VCALENDAR
VERSION:2.0
PRODID:-//Volt Europa//Events//EN
CALSCALE:GREGORIAN
METHOD:PUBLISH
BEGIN:VEVENT
UID:verkiezingsavond-18-maart-1773853200@voltnederland.org
DTSTAMP:20260423T174332Z
DTSTART;TZID=Europe/Amsterdam:20260318T180000
DTEND;TZID=Europe/Amsterdam:20260318T235900
SUMMARY:Verkiezingsavond 18 maart
DESCRIPTION:18 maart  zijn de gemeenteraadsverkiezingen. Dankzij jullie inz
 et knallen we deze campagne! Vier 18 maart samen de uitslagenavond vol span
 ning\, trots en gezelligheid. Dankzij jullie inzet\, energie en doorzetting
 svermogen zijn we zichtbaar in de stad en zetten we een kneitergoede campag
 ne neer. Van flyeren door weer en wind tot debatten\, van social media post
 s tot ludieke acties op straat\, zonder jullie is er geen campagne. Deze av
 ond is daarom voor jullie! Blik terug op de campagne en kom 's avo
LOCATION:MONO\, Rotterdam
URL:https://voltnederland.org/zuid-holland/agenda/verkiezingsavond-18-maart
END:VEVENT
END:VCALENDAR
