BEGIN:VCALENDAR
VERSION:2.0
PRODID:-//Volt Europa//Events//EN
CALSCALE:GREGORIAN
METHOD:PUBLISH
BEGIN:VEVENT
UID:veiling-pubquiz-1741453200@voltnederland.org
DTSTAMP:20260423T102047Z
DTSTART;TZID=Europe/Amsterdam:20250308T180000
DTEND;TZID=Europe/Amsterdam:20250308T210000
SUMMARY:Veiling & Pubquiz
DESCRIPTION:Programma:  18.00-19.00 uur: Buffet + 1 drankje voor €15 per 
 persoon 19.00-21.00 uur: Veiling en Pubquiz Neem de kans om bijzondere item
 s te winnen\, waarvan de opbrengst direct naar de campagnekas gaat dus win-
 win! Vrienden en familie zijn ook welkom.  (Spoilers: de veiling biedt onde
 r andere concert- en festival kaartjes voor Consert at Sea\, Koningsdag in 
 Rotterdam en Holland zingt Hazes. Ook zijn er prijzen als dates met onze Eu
 roparlementariërs Reinier en Anna en worden er uitjes en een diner
LOCATION:Fjord Eat & Drink (Blaak 776\, Rotterdam)
URL:https://voltnederland.org/zuid-holland/agenda/veiling-pubquiz
END:VEVENT
END:VCALENDAR
