BEGIN:VCALENDAR
VERSION:2.0
PRODID:-//Volt Europa//Events//EN
CALSCALE:GREGORIAN
METHOD:PUBLISH
BEGIN:VEVENT
UID:uitnodiging-volt-borrel-visie-gouda-2030-2040-1743102000@voltnederland.
 org
DTSTAMP:20260423T114410Z
DTSTART;TZID=Europe/Amsterdam:20250327T200000
DTEND;TZID=Europe/Amsterdam:20250327T230000
SUMMARY:UITNODIGING: Volt Borrel – Visie Gouda 2030-2040 🍻
DESCRIPTION:ENGLISH BELOW 📅 Donderdag 27 maart 2025 vanaf 20.00 📍 Bar
 Bier op de Markt\, mezzanine\, Gouda 👥 Volt Midden-Holland & geïnteress
 eerden (niet-leden welkom!) Wil jij meebepalen waar Volt Gouda in 2026 voor
  staat? We werken aan een sterke visie\, een krachtige kandidatenlijst en e
 en slimme campagne—maar dat lukt alleen met jouw inbreng! Kom langs\, dee
 l je ideeën en proost met ons op een toekomstgericht Gouda. We kijken uit 
 naar je komst! 💜🚀 ENGLISH INVITATION: Volt Drinks – Vision Gouda 20
 30-2040 🍻 📅 
LOCATION:BarBier op de Markt\, mezzanine\, Gouda
URL:https://voltnederland.org/zuid-holland/agenda/uitnodiging-volt-borrel-v
 isie-gouda-2030-2040
END:VEVENT
END:VCALENDAR
