BEGIN:VCALENDAR
VERSION:2.0
PRODID:-//Volt Europa//Events//EN
CALSCALE:GREGORIAN
METHOD:PUBLISH
BEGIN:VEVENT
UID:tweede-kamerverkiezingen-1761719400@voltnederland.org
DTSTAMP:20260423T115810Z
DTSTART;TZID=Europe/Amsterdam:20251029T073000
DTEND;TZID=Europe/Amsterdam:20251029T210000
SUMMARY:Tweede kamerverkiezingen
DESCRIPTION:Op 29 oktober is het tijd voor de Tweede Kamerverkiezingen. Doe
  iets nieuws en stem op een unieke locatie! Alleen al in Rotterdam zijn er 
 ruim 350 stembureau waar jij op 29 oktober je stem uit kan brengen. Op je s
 tempas staat welk stembureau bij jouw in de buurt is\, maar ergens anders s
 temmen in de gemeente is ook mogelijk! Ga bijvoorbeeld stemmen in de Centra
 le Bibliotheek aan de Hoogstraat of op Raderstoomboot De Majesteit aan de M
 aasboulevard.  Doe iets nieuws\, stem Volt!
LOCATION:Nederland
URL:https://voltnederland.org/zuid-holland/agenda/tweede-kamerverkiezingen
END:VEVENT
END:VCALENDAR
