BEGIN:VCALENDAR
VERSION:2.0
PRODID:-//Volt Europa//Events//EN
CALSCALE:GREGORIAN
METHOD:PUBLISH
BEGIN:VEVENT
UID:themagroepen-migratie-en-onderwijs-op-bezoek-bij-ithaka-academie-174421
 9800@voltnederland.org
DTSTAMP:20260423T115658Z
DTSTART;TZID=Europe/Amsterdam:20250409T193000
DTEND;TZID=Europe/Amsterdam:20250409T210000
SUMMARY:Themagroepen migratie en onderwijs op bezoek bij Ithaka Academie
DESCRIPTION:ENGLISH BELOW Op woensdag 9 april gaan de themagroepen migratie
  en onderwijs op bezoek bij Ithaka Academie voor een kennismaking en een ve
 rdiepend gesprek met Patrick Groenewegen. Ithaka is een sociale onderneming
  die statushouders ondersteunt richting werk en zelfstandigheid. Bij status
 houders zien we helaas nog te vaak een enorme verspilling van talent. Hun e
 rvaring\, kennis en potentieel worden onvoldoende erkend\, terwijl zij juis
 t veel kunnen bijdragen. Werkgevers denken soms dat het aannemen
LOCATION:nog nader te bepalen
URL:https://voltnederland.org/zuid-holland/agenda/themagroepen-migratie-en-
 onderwijs-op-bezoek-bij-ithaka-academie
END:VEVENT
END:VCALENDAR
