BEGIN:VCALENDAR
VERSION:2.0
PRODID:-//Volt Europa//Events//EN
CALSCALE:GREGORIAN
METHOD:PUBLISH
BEGIN:VEVENT
UID:thema-avond-met-professor-vincent-icke-samen-sterren-kijken-1769626800@
 voltnederland.org
DTSTAMP:20260423T212937Z
DTSTART;TZID=Europe/Amsterdam:20260128T200000
DTEND;TZID=Europe/Amsterdam:20260128T213000
SUMMARY:Thema avond met professor Vincent Icke: Samen sterren kijken
DESCRIPTION:Wij nodigen je uit: Kom sterren kijken.  Met Vincent Icke. Pro
 fessor Vincent Icke neemt je 28 januari mee in een inspirerend verhaal over
  sterrenkunde\, samenwerking en wetenschap zonder grenzen.  Of zoals hij h
 et zelf zegt:  In je eentje sterren kijken is geweldig. Met z’n tweeën 
 gaat het beter\, en niet alleen door romantiek. Sterker nog: hoe meer ziele
 n hoe meer begrip. Het romantische beeld van het eenzame genie dat de weten
 schap voortstuwt is onjuist. Dit wordt een lofzang op samenwerking in 
LOCATION:Café de Vergulde Kruik (Haarlemmerstraat 20-24\, Leiden)
URL:https://voltnederland.org/zuid-holland/agenda/thema-avond-met-professor
 -vincent-icke-samen-sterren-kijken
END:VEVENT
END:VCALENDAR
