BEGIN:VCALENDAR
VERSION:2.0
PRODID:-//Volt Europa//Events//EN
CALSCALE:GREGORIAN
METHOD:PUBLISH
BEGIN:VEVENT
UID:thema-avond-basisinkomen-1746898200@voltnederland.org
DTSTAMP:20260423T142724Z
DTSTART;TZID=Europe/Amsterdam:20250510T193000
DTEND;TZID=Europe/Amsterdam:20250510T220000
SUMMARY:Thema-avond Basisinkomen
DESCRIPTION:Er zijn mensen die menen dat de hemel op aarde neerdaalt als we
  een basisinkomen hebben\, terwijl anderen ervan overtuigd zijn dat het onb
 etaalbaar is of mensen niet meer willen werken. Wat wil Volt? Hoofdlijnen v
 an beleid stelt: De overheid garandeert onvoorwaardelijk aan iedere  volwas
 sene een basisinkomen waarvan je in Nederland menswaardig kunt leven. Werke
 n loont: het inkomen stijgt. De werkgroep Nieuw sociaalfiscaal stelsel met 
 basisinkomen heeft dit uitgewerkt in een maandbedrag dat hoog g
LOCATION:The Field\, Leiden
URL:https://voltnederland.org/zuid-holland/agenda/thema-avond-basisinkomen
END:VEVENT
END:VCALENDAR
