BEGIN:VCALENDAR
VERSION:2.0
PRODID:-//Volt Europa//Events//EN
CALSCALE:GREGORIAN
METHOD:PUBLISH
BEGIN:VEVENT
UID:team-sessie-leidschendam-voorburg-1765702800@voltnederland.org
DTSTAMP:20260423T212209Z
DTSTART;TZID=Europe/Amsterdam:20251214T100000
DTEND;TZID=Europe/Amsterdam:20251214T123000
SUMMARY:Team Sessie Leidschendam-Voorburg
DESCRIPTION:Met iedereen die wil bijdragen aan de campagne\, communicatie e
 n community van Volt LV komen we bij elkaar om onze lokale partij te verste
 rken. We bepalen samen de campagne speerpunten en rolverdeling voor de kome
 nde periode: de campagne en ook daarna.  Erg belangrijk dat we er samen sta
 an\, er is veel steun nodig.  Ter voorbereiding vragen we je 2 dingen: Lees
  het verkiezingsprogramma en noteer welke 2 punten jij als speerpunt in de 
 campagne zou willen zien. Meld je even aan\, zodat we weten op wi
LOCATION:Caffè delle Arti Julianabaan 17 Voorburg.
URL:https://voltnederland.org/zuid-holland/agenda/team-sessie-leidschendam-
 voorburg
END:VEVENT
END:VCALENDAR
