BEGIN:VCALENDAR
VERSION:2.0
PRODID:-//Volt Europa//Events//EN
CALSCALE:GREGORIAN
METHOD:PUBLISH
BEGIN:VEVENT
UID:rotterdamse-community-borrel-8-2024-1730228400@voltnederland.org
DTSTAMP:20260423T114107Z
DTSTART;TZID=Europe/Amsterdam:20241029T200000
DTEND;TZID=Europe/Amsterdam:20241029T230000
SUMMARY:Rotterdamse Community Borrel
DESCRIPTION:De maandelijkse ledenborrel van oktober is op dinsdag 29 oktobe
 r van 20.00 tot ongeveer 23.00 uur ‘s avonds. Het nieuwe bestuur van Volt
  Rotterdam Zuid-Holland Zuid zal zich deze avond voorstellen! Daarnaast ont
 moet je op deze avond mede-Volters van onder meer de fracties en onze versc
 hillende teams. Neem ook gerust iemand mee\; de meeting is open en je hoeft
  je niet aan te melden. De locatie is Café Stalles\, Nieuwe Binnenweg 11a 
 (nabij metro Eendrachtsplein) en we zitten in de ruimte achter de b
LOCATION:Café Stalles
URL:https://voltnederland.org/zuid-holland/agenda/rotterdamse-community-bor
 rel-8-2024
END:VEVENT
END:VCALENDAR
