BEGIN:VCALENDAR
VERSION:2.0
PRODID:-//Volt Europa//Events//EN
CALSCALE:GREGORIAN
METHOD:PUBLISH
BEGIN:VEVENT
UID:rotterdamse-community-borrel-26-11-24-1732647600@voltnederland.org
DTSTAMP:20260423T114134Z
DTSTART;TZID=Europe/Amsterdam:20241126T200000
DTEND;TZID=Europe/Amsterdam:20241126T230000
SUMMARY:Rotterdamse Community Borrel
DESCRIPTION:De maandelijkse ledenborrel van november is op dinsdag 26 novem
 ber van 20.00 tot ongeveer 23.00 uur ‘s avonds. Je ontmoet op deze avond 
 mede-Volters van onder meer de fracties en onze verschillende teams. Neem o
 ok gerust iemand mee\; de meeting is open en je hoeft je niet aan te melden
 .  Meer informatie volgt!  Heb je vragen? Neem dan contact op met Jan via  
 community.rotterdam@voltnederland.org .
LOCATION:Locatie volgt
URL:https://voltnederland.org/zuid-holland/agenda/rotterdamse-community-bor
 rel-26-11-24
END:VEVENT
END:VCALENDAR
