BEGIN:VCALENDAR
VERSION:2.0
PRODID:-//Volt Europa//Events//EN
CALSCALE:GREGORIAN
METHOD:PUBLISH
BEGIN:VEVENT
UID:rotterdam-community-avond-maandelijkse-borrel-1732647600@voltnederland.
 org
DTSTAMP:20260423T114225Z
DTSTART;TZID=Europe/Amsterdam:20241126T200000
DTEND;TZID=Europe/Amsterdam:20241126T230000
SUMMARY:Rotterdam: community avond (maandelijkse borrel)
DESCRIPTION:Ontmoet je mede-Volters in een gezellige sfeer. Het regio-bestu
 ur zal present zijn\, alsmede leden van de fractie en van de verschillende 
 teams. Het evenement is open\, dus neem gerust iemand mee.
LOCATION:Cafe Restaurant Floor\, Schouwburgplein 28\, 3012 CL\, Rotterdam
URL:https://voltnederland.org/agenda/rotterdam-community-avond-maandelijkse
 -borrel
END:VEVENT
END:VCALENDAR
