BEGIN:VCALENDAR
VERSION:2.0
PRODID:-//Volt Europa//Events//EN
CALSCALE:GREGORIAN
METHOD:PUBLISH
BEGIN:VEVENT
UID:roadshow-leidschendam-voorburg-1717840800@voltnederland.org
DTSTAMP:20260423T114414Z
DTSTART;TZID=Europe/Amsterdam:20240608T120000
DTEND;TZID=Europe/Amsterdam:20240608T170000
SUMMARY:Roadshow Leidschendam-Voorburg
DESCRIPTION:Wil je dat Volt meedoet aan de gemeenteraadsverkiezingen in Lei
 dschendam-Voorburg? Kom dan langs! Ruim 120 Volt-leden staan klaar om een n
 ieuwe community te vormen en jouw stem te horen. Ontdek hoe jij kunt bijdra
 gen aan deze inspirerende beweging tijdens onze Roadshow! Doelstelling  Het
  is nog twee jaar tot de volgende gemeenteraadsverkiezingen. Tijdens de Roa
 dshow op 8 juni helpt de community Volt Den Haag de ruim 120 leden op weg o
 m een community Leidschendam-Voorburg op te starten. Wat komt 
LOCATION:Clubhuis AZL – zwembad De Fluit\, Fluitpolderplein 1\, 2262 ED L
 eidschendam
URL:https://voltnederland.org/zuid-holland/agenda/roadshow-leidschendam-voo
 rburg
END:VEVENT
END:VCALENDAR
