BEGIN:VCALENDAR
VERSION:2.0
PRODID:-//Volt Europa//Events//EN
CALSCALE:GREGORIAN
METHOD:PUBLISH
BEGIN:VEVENT
UID:pride-walk-the-hague-1716030000@voltnederland.org
DTSTAMP:20260423T102220Z
DTSTART;TZID=Europe/Amsterdam:20240518T130000
DTEND;TZID=Europe/Amsterdam:20240518T160000
SUMMARY:Pride Walk The Hague
DESCRIPTION:Op zaterdag 18 mei zal Volt Haag & Rijnland deelnemen aan The H
 ague Pride Walk!  We verzamelen bij het Internationaal Homomonument bij de 
 Koekamp\, op de Laan van Raegan en Gorbatsjov. Dit is op loopafstand van De
 n Haag Centraal Station. De mars is van 13:00 uur tot circa 16:00 uur. Het 
 is natuurlijk ook mogelijk om gedeeltelijk aan te sluiten.  Op 18 mei lopen
  we gezamenlijk door de straten van Den Haag tijdens onze Pride Walk. Elke 
 stap draagt bij aan het verhaal van trots\, liefde en diversitei
LOCATION:Internationaal Homomonument\, Laan van Raegan en Gorbatsjov\, Den 
 Haag
URL:https://voltnederland.org/zuid-holland/agenda/pride-walk-the-hague
END:VEVENT
END:VCALENDAR
