BEGIN:VCALENDAR
VERSION:2.0
PRODID:-//Volt Europa//Events//EN
CALSCALE:GREGORIAN
METHOD:PUBLISH
BEGIN:VEVENT
UID:pizza-bijeenkomst-leukere-jaarwisseling-1763391600@voltnederland.org
DTSTAMP:20260424T031127Z
DTSTART;TZID=Europe/Amsterdam:20251117T160000
DTEND;TZID=Europe/Amsterdam:20251117T180000
SUMMARY:Pizza-bijeenkomst Leukere Jaarwisseling
DESCRIPTION:Op 17 november gaan we van 16:00 tot 18:00 met elkaar bespreken
  ' hoe de jaarwisseling in onze gemeente nog leuker gevierd kan worden '. L
 ocatie: Stichting IBCE (Valkhof 67). Voor wie? Alle inwoners van LV zijn we
 lkom. Deze sessie leggen we vooral de nadruk op de mening van jongeren\, du
 s we hopen dat er veel jongeren komen mee denken en doen! Wij zorgen voor p
 izza en wat te drinken! Doel van de bijeenkomst is dat iedereen die geinter
 esseerd is in een prettige jaarwisseling mee kan denken en doen
LOCATION:Stichting IBCE\, Valkhof 67 Leidschendam
URL:https://voltnederland.org/zuid-holland/agenda/pizza-bijeenkomst-leukere
 -jaarwisseling
END:VEVENT
END:VCALENDAR
