BEGIN:VCALENDAR
VERSION:2.0
PRODID:-//Volt Europa//Events//EN
CALSCALE:GREGORIAN
METHOD:PUBLISH
BEGIN:VEVENT
UID:pizza-avond-en-belsessie-vrouwen-werven-voor-de-lijst-1745339400@voltne
 derland.org
DTSTAMP:20260423T144528Z
DTSTART;TZID=Europe/Amsterdam:20250422T183000
DTEND;TZID=Europe/Amsterdam:20250422T210000
SUMMARY:Pizza-avond en belsessie – help mee kandidaten te vinden!
DESCRIPTION:English below: Op dinsdag 22 april organiseren we weer een pizz
 a en bellen-avond op het partijkantoor. Met pizza\, drankjes en enthousiasm
 e gaan we samen bellen om mensen te werven voor onze kandidatenlijsten in L
 eidschendam-Voorburg en Den Haag. De vacature voor de kandidatenlijst is op
  11 april geopend en nu is het tijd om zoveel mogelijk betrokken leden te b
 enaderen en enthousiasmeren om zich kandidaat te stellen. Alleen al in Den 
 Haag hebben we honderden mensen die gebeld kunnen worden. Of je
LOCATION:Partijkantoor Volt\, Koninginnegracht 7 Den Haag
URL:https://voltnederland.org/zuid-holland/agenda/pizza-avond-en-belsessie-
 vrouwen-werven-voor-de-lijst
END:VEVENT
END:VCALENDAR
