BEGIN:VCALENDAR
VERSION:2.0
PRODID:-//Volt Europa//Events//EN
CALSCALE:GREGORIAN
METHOD:PUBLISH
BEGIN:VEVENT
UID:open-fractiedag-volt-rotterdam-17-april-1744876800@voltnederland.org
DTSTAMP:20260423T114247Z
DTSTART;TZID=Europe/Amsterdam:20250417T100000
DTEND;TZID=Europe/Amsterdam:20250417T170000
SUMMARY:Open fractiedag Volt Rotterdam 17 april
DESCRIPTION:Heb jij een politieke ambitie? Of wil je graag onderzoeken of d
 e lokale politiek iets voor jou is? Schrijf je dan nu in voor de open fract
 iedag van Volt Rotterdam via dit aanmeldformulier. Bij vragen kun je terech
 t bij onze fractiemedewerker Sipke Dijkshoorn\, via  sipke.dijkshoorn@volte
 uropa.org . Waarom een open fractiedag? De open fractiedag is bedoeld om en
 thousiaste en nieuwsgierige Volt-leden mee te nemen in de lokale politiek e
 n hen te ondersteunen in hun professionele ontwikkeling\, in aan
LOCATION:Stadhuis Rotterdam
URL:https://voltnederland.org/agenda/open-fractiedag-volt-rotterdam-17-apri
 l
END:VEVENT
END:VCALENDAR
