BEGIN:VCALENDAR
VERSION:2.0
PRODID:-//Volt Europa//Events//EN
CALSCALE:GREGORIAN
METHOD:PUBLISH
BEGIN:VEVENT
UID:op-zn-rotterdams-recht-doen-in-de-praktijk-1758733200@voltnederland.org
DTSTAMP:20260423T114913Z
DTSTART;TZID=Europe/Amsterdam:20250924T190000
DTEND;TZID=Europe/Amsterdam:20250924T230000
SUMMARY:Op z’n Rotterdams recht doen in de praktijk
DESCRIPTION:In gesprek over asielwetgeving\, struikelblokken én oplossinge
 n Hoe hebben maatschappelijke organisaties te maken met wetgeving en moeili
 jkheden die ze daarbij ondervinden? En hoe kunnen we samen werken aan oplos
 singen die écht verschil maken? Tijdens deze inhoudelijke avond van het Gr
 assrootsteam van Volt Rotterdam Zuid-Holland Zuid ga je in gesprek met maat
 schappelijke organisaties die dagelijks betrokken zijn bij de gevolgen van 
 de huidige en toekomstige asielwetgeving. Stichting Ongedocumente
LOCATION:Gaffelstraat 61B\, Rotterdam
URL:https://voltnederland.org/zuid-holland/agenda/op-zn-rotterdams-recht-do
 en-in-de-praktijk
END:VEVENT
END:VCALENDAR
