BEGIN:VCALENDAR
VERSION:2.0
PRODID:-//Volt Europa//Events//EN
CALSCALE:GREGORIAN
METHOD:PUBLISH
BEGIN:VEVENT
UID:op-naar-de-gemeenteraadsverkiezingen-1763058600@voltnederland.org
DTSTAMP:20260423T211904Z
DTSTART;TZID=Europe/Amsterdam:20251113T193000
DTEND;TZID=Europe/Amsterdam:20251113T220000
SUMMARY:Voorstelavond potentiële kandidaten gemeenteraadsverkiezingen
DESCRIPTION:English below: De Tweede Kamerverkiezingen zijn pas net achter 
 de rug en ondanks dat het resultaat voor ons tegenviel gaan we volle kracht
  vooruit naar de gemeenteraads-verkiezingen van maart 2026! We gaan meedoen
  in Den Haag en de afgelopen maanden is hard gewerkt aan een vernieuwend pr
 ogramma en een sterke kandidatenlijst. Op 13 november in Grand Café de Uto
 pie zullen de kandidaten zich voorstellen voorafgaand aan het congres dat o
 p zaterdag 29 november wordt georganiseerd. Hierover hebben all
LOCATION:Grand Café Utopie\, Waldeck Pyrmontkade 116\, 2518 JR Den Haag
URL:https://voltnederland.org/zuid-holland/agenda/op-naar-de-gemeenteraadsv
 erkiezingen
END:VEVENT
END:VCALENDAR
