BEGIN:VCALENDAR
VERSION:2.0
PRODID:-//Volt Europa//Events//EN
CALSCALE:GREGORIAN
METHOD:PUBLISH
BEGIN:VEVENT
UID:new-years-drinks-pubquiz-1768145400@voltnederland.org
DTSTAMP:20260423T211757Z
DTSTART;TZID=Europe/Amsterdam:20260111T163000
DTEND;TZID=Europe/Amsterdam:20260111T190000
SUMMARY:New Year's Drinks & Pubquiz
DESCRIPTION:** Nederlands hieronder * Dear Leidenaren\,  🍾 The Volt-comm
 unity wishes you all a happy 2026!  You are invited to celebrate this new y
 ear with us by joining the Leiden pubquiz\, with the greatest facts about o
 ur historical city. The pubquiz will be presented in English by our local c
 ouncil (gemeenteraad) candidates Ophir Waasdorp and Jasper Kol. Afterwards\
 , we’ll see each other at the drinks\, where we will raise our glasses to
  the VOLT VOOR LEIDEN campaign. We are looking forward to meet you. See
LOCATION:Café de Vergulde Kruik (Haarlemmerstraat 20-24\, Leiden)
URL:https://voltnederland.org/zuid-holland/agenda/new-years-drinks-pubquiz
END:VEVENT
END:VCALENDAR
