BEGIN:VCALENDAR
VERSION:2.0
PRODID:-//Volt Europa//Events//EN
CALSCALE:GREGORIAN
METHOD:PUBLISH
BEGIN:VEVENT
UID:maandelijkse-community-avond-rotterdam-1777399200@voltnederland.org
DTSTAMP:20260421T092244Z
DTSTART;TZID=Europe/Amsterdam:20260428T200000
DTEND;TZID=Europe/Amsterdam:20260428T230000
SUMMARY:Maandelijkse community avond Rotterdam
DESCRIPTION:Op 28 april is het weer tijd voor de maandelijkse community avo
 nd in Rotterdam.  Lid zijn van Volt is niet nodig. Hopelijk zien we je dan!
  Waar: Café Floor (Schouwburgplein 28) Wanneer: 28 april vanaf 20:00 uur
LOCATION:Café Floor
URL:https://voltnederland.org/zuid-holland/agenda/maandelijkse-community-av
 ond-rotterdam
END:VEVENT
END:VCALENDAR
