BEGIN:VCALENDAR
VERSION:2.0
PRODID:-//Volt Europa//Events//EN
CALSCALE:GREGORIAN
METHOD:PUBLISH
BEGIN:VEVENT
UID:maandelijkse-borrel-volt-den-haag-1762455600@voltnederland.org
DTSTAMP:20260423T174107Z
DTSTART;TZID=Europe/Amsterdam:20251106T200000
DTEND;TZID=Europe/Amsterdam:20251106T220000
SUMMARY:Maandelijkse borrel Volt Den Haag
DESCRIPTION:ENGLISH BELOW Lieve Volter\, donderdag 6 november is het alweer
  eerste donderdag van de maand. Tijd voor onze borrel. Even napraten over d
 e verkiezingen\, misschien een beetje balen\, maar vooral ook weer vooruitk
 ijken. Pulchri sluit om 22.00 uur\, dus kom niet te laat ENGLISH Feel the n
 eed to blow off some steam? Want to talk about the election results? Join u
 s for drinks on 6 November! We’re meeting for our monthly drinks on Thurs
 day\, 6 November. A chance to talk about the elections\, maybe vent a 
LOCATION:Pulchri Studio\, Lange Voorhout 15\, Den Haag
URL:https://voltnederland.org/zuid-holland/agenda/maandelijkse-borrel-volt-
 den-haag
END:VEVENT
END:VCALENDAR
