BEGIN:VCALENDAR
VERSION:2.0
PRODID:-//Volt Europa//Events//EN
CALSCALE:GREGORIAN
METHOD:PUBLISH
BEGIN:VEVENT
UID:maandelijkse-borrel-den-haag-1741287600@voltnederland.org
DTSTAMP:20260423T114050Z
DTSTART;TZID=Europe/Amsterdam:20250306T200000
DTEND;TZID=Europe/Amsterdam:20250306T230000
SUMMARY:Volt Den Haag borrel bij Leopold🥳
DESCRIPTION:English below De zon schijnt en Europa roert zich op het wereld
 toneel. Wat heeft dat met elkaar te maken? Weinig\, behalve dat het allebei
  hele goede redenen zijn om naar onze maandelijkse borrel te komen! Kom nie
 uwe en oude Volters leren kennen onder het genot van een drankje\, ga met e
 lkaar in gesprek over de staat van de wereld of over je vakantieplannen. Op
  onze borrels kan het allemaal. Zien we je daar? 📅 Donderdag 6 maart Mar
 ch 6 ⏰ 20:00 📍 Café Leopold\, Plein English version: Volt Den Haag D
LOCATION:Café Restaurant Leopold\, Plein 17\, 2511 CS Den Haag
URL:https://voltnederland.org/zuid-holland/agenda/maandelijkse-borrel-den-h
 aag
END:VEVENT
END:VCALENDAR
