BEGIN:VCALENDAR
VERSION:2.0
PRODID:-//Volt Europa//Events//EN
CALSCALE:GREGORIAN
METHOD:PUBLISH
BEGIN:VEVENT
UID:leidse-spoedborrel-val-coalitie-1748970000@voltnederland.org
DTSTAMP:20260423T113948Z
DTSTART;TZID=Europe/Amsterdam:20250603T190000
DTEND;TZID=Europe/Amsterdam:20250603T220000
SUMMARY:Leidse Spoedborrel val coalitie
DESCRIPTION:Het moment is gekomen dat eigenlijk iedereen wist dat zou komen
 \, het kabinet is gevallen! Dit betekent dat er veel voor de boeg staat voo
 r Leiden\, voor Volt\, en voor Nederland. Verkiezingen? Minderheidscoalitie
 ? Krijgen ze toch onverwachte coalitiepartners? We weten het niet\, we gaan
  het vandaag waarschijnlijk niet allemaal weten. Maar toch is er natuurlijk
  de behoefte om over dit onderwerp te spreken! Om deze reden organiseren we
  in Leiden een last-minute borrel bij  't Brandewijntje\, Morsweg 6
LOCATION:'t Brandewijntje\, Morsweg 63\, Leiden
URL:https://voltnederland.org/zuid-holland/agenda/leidse-spoedborrel-val-co
 alitie
END:VEVENT
END:VCALENDAR
