BEGIN:VCALENDAR
VERSION:2.0
PRODID:-//Volt Europa//Events//EN
CALSCALE:GREGORIAN
METHOD:PUBLISH
BEGIN:VEVENT
UID:leidse-4de-woensdag-van-de-maand-met-chris-aalberts-1729706400@voltnede
 rland.org
DTSTAMP:20260423T114409Z
DTSTART;TZID=Europe/Amsterdam:20241023T200000
DTEND;TZID=Europe/Amsterdam:20241023T223000
SUMMARY:Leidse 4de woensdag van de maand met Chris Aalberts!
DESCRIPTION:English Below De vierde woensdag is altijd leuk\, maar soms is 
 hij wat leuker dan anders. Deze keer komt Chris Aalberts\, Journalist\, Vol
 t-duider sinds het eerste uur en schrijver van het boek 'Bureaucratie voor 
 Europeanen' over de opkomst van Volt in Europa. Hij gaat met Erik Camman (V
 ml communicatieadviseur van Volt NL en Volt Leiden) en ons in gesprek over 
 de vraag: "Wat heeft Volt te vinden bij de gemeenteraadsverkiezingen in Lei
 den?" Ze verkennen het hele landschap vanaf de vraag wat Volt moe
LOCATION:'Brandewijntje\, Leiden
URL:https://voltnederland.org/zuid-holland/agenda/leidse-4de-woensdag-van-d
 e-maand-met-chris-aalberts
END:VEVENT
END:VCALENDAR
