BEGIN:VCALENDAR
VERSION:2.0
PRODID:-//Volt Europa//Events//EN
CALSCALE:GREGORIAN
METHOD:PUBLISH
BEGIN:VEVENT
UID:leidschendam-voorburg-community-borrel-1732042800@voltnederland.org
DTSTAMP:20260423T114306Z
DTSTART;TZID=Europe/Amsterdam:20241119T200000
DTEND;TZID=Europe/Amsterdam:20241119T220000
SUMMARY:Leidschendam-Voorburg community borrel
DESCRIPTION:Op 19 november is het tijd voor de volgende bijeenkomst van Vol
 t Leidschendam-Voorburg! We gaan het hebben over onze communicatie naar bui
 ten toe\, en de voorbereidingen voor de gemeenteraadsverkiezingen in 2026. 
 Hoe voegen we als Volt meerwaarde toe in Leidschendam-Voorburg\, en hoe doe
 n we dat op dit moment al? Daarnaast is dit het uitgelegen moment om andere
  Volters in de regio te ontmoeten\, dus hopelijk zien we je daar! Heb je vr
 agen\, bijvoorbeeld over toegankelijkheid? Neem contact op met Mar
LOCATION:Hopkamer\, Kerkstraat 2\, Voorburg
URL:https://voltnederland.org/zuid-holland/agenda/leidschendam-voorburg-com
 munity-borrel
END:VEVENT
END:VCALENDAR
