BEGIN:VCALENDAR
VERSION:2.0
PRODID:-//Volt Europa//Events//EN
CALSCALE:GREGORIAN
METHOD:PUBLISH
BEGIN:VEVENT
UID:leidschendam-centrum-doe-avond-met-bewoners-1767897000@voltnederland.or
 g
DTSTAMP:20260423T174240Z
DTSTART;TZID=Europe/Amsterdam:20260108T193000
DTEND;TZID=Europe/Amsterdam:20260108T213000
SUMMARY:Leidschendam-Centrum Doe avond met bewoners
DESCRIPTION:Uitnodiging: denk en doe mee op 8 januari Op donderdag 8 januar
 i\, 19:30 - 21:30 organiseren buurtbewoners en Thuis aan de Sluis een denk 
 en doe-avond. Volt Leidschendam-Voorburg zal deze avond faciliteren. Geen i
 nspraakavond en geen politiek debat\, maar een sessie waarin we samen onder
 zoeken waar de winst zit en welke stappen de wijk wil zetten. Dit naar aanl
 eiding van lang lopende klachten van inwoners over de leefbaarheid van de w
 ijk. Enkele inwoners vroegen Volt om hulp om met een digitale vr
LOCATION:WZH Schoorwijk\, Zaagmolenstraat 96 Leidschendam
URL:https://voltnederland.org/zuid-holland/agenda/leidschendam-centrum-doe-
 avond-met-bewoners
END:VEVENT
END:VCALENDAR
