BEGIN:VCALENDAR
VERSION:2.0
PRODID:-//Volt Europa//Events//EN
CALSCALE:GREGORIAN
METHOD:PUBLISH
BEGIN:VEVENT
UID:leiden-kartrekkersborrel-1740830400@voltnederland.org
DTSTAMP:20260423T113949Z
DTSTART;TZID=Europe/Amsterdam:20250301T130000
DTEND;TZID=Europe/Amsterdam:20250301T170000
SUMMARY:Leiden Kartrekkersborrel
DESCRIPTION:De Kartrekkersborrel! Ben je lid van Volt en zou graag meer act
 ief worden? Belangrijke ondersteuning bieden voor de community\, verkiezing
 en\, campagnes\, beleid of andere activiteiten? Wij horen graag van je en d
 eze borrel is de geschikte kans. Kom met ons in gesprek over wat je nog mee
 r kan doen naast een rondje invullen met een rood potlood bij de verkiezing
 en. We hopen je te spreken op zaterdag 1 maart bij 't Brandewijntje in Leid
 en! Wil je niet alleen borrelen\, maar ook actief bijdragen? We zo
LOCATION:'t Brandewijntje\, Leiden
URL:https://voltnederland.org/zuid-holland/agenda/leiden-kartrekkersborrel
END:VEVENT
END:VCALENDAR
