BEGIN:VCALENDAR
VERSION:2.0
PRODID:-//Volt Europa//Events//EN
CALSCALE:GREGORIAN
METHOD:PUBLISH
BEGIN:VEVENT
UID:ledenraadplegingdiscussiebijeenkomst-1758960000@voltnederland.org
DTSTAMP:20260423T113949Z
DTSTART;TZID=Europe/Amsterdam:20250927T100000
DTEND;TZID=Europe/Amsterdam:20250927T130000
SUMMARY:Verkiezingsprogramma ledenraadpleging/discussiebijeenkomst Volt Den
  Haag
DESCRIPTION:In augustus hebben we samen een enorme slag geslagen in ons lok
 ale beleid. Het resultaat? Een concept-verkiezingsprogramma met toekomstger
 ichte ideeën en inspirerende voorbeelden uit andere Europese steden\, zoal
 s het Mechelse model voor sociale zekerheid. We delen het conceptprogramma 
 binnenkort via de mail en presenteren dit vervolgens aan onze Haagse leden 
 tijdens een ledenraadpleging/discussiebijeenkomst: Meld je aan via dit form
 ulier Kun je er niet bij zijn? Dat is geen probleem. Ook online 
LOCATION:locatie volgt
URL:https://voltnederland.org/zuid-holland/agenda/ledenraadplegingdiscussie
 bijeenkomst
END:VEVENT
END:VCALENDAR
