BEGIN:VCALENDAR
VERSION:2.0
PRODID:-//Volt Europa//Events//EN
CALSCALE:GREGORIAN
METHOD:PUBLISH
BEGIN:VEVENT
UID:ledenbijeenkomst-volt-delft-kennismaking-met-de-kandidaat-raadsleden-17
 63146800@voltnederland.org
DTSTAMP:20260423T212811Z
DTSTART;TZID=Europe/Amsterdam:20251114T200000
DTEND;TZID=Europe/Amsterdam:20251114T220000
SUMMARY:Ledenbijeenkomst Volt Delft – Kennismaking met de kandidaat-raads
 leden
DESCRIPTION:ENGLISH BELOW De gemeenteraadsverkiezingen van 2026 komen dicht
 erbij en ook in Delft maakt Volt zich op voor de campagne.  Kom daarom naar
  de ledenbijeenkomst van Volt Delft en maak kennis met de kandidaat-raadsle
 den\, die hun motivatie en plannen voor de stad delen. Het is een mooie gel
 egenheid om elkaar te ontmoeten\, vragen te stellen en samen vooruit te kij
 ken naar de campagne in Delft. Na afloop is er ruimte om informeel na te pr
 aten. Iedereen die betrokken is bij Volt Delft\, of graag wil bij
LOCATION:Kantoor Prowareness\, Brassersplein 1\, Delft.
URL:https://voltnederland.org/zuid-holland/agenda/ledenbijeenkomst-volt-del
 ft-kennismaking-met-de-kandidaat-raadsleden
END:VEVENT
END:VCALENDAR
