BEGIN:VCALENDAR
VERSION:2.0
PRODID:-//Volt Europa//Events//EN
CALSCALE:GREGORIAN
METHOD:PUBLISH
BEGIN:VEVENT
UID:kom-sterren-bij-het-huygens-museum-tijdens-museum-nacht-1760203800@volt
 nederland.org
DTSTAMP:20260423T114630Z
DTSTART;TZID=Europe/Amsterdam:20251011T193000
DTEND;TZID=Europe/Amsterdam:20251011T203000
SUMMARY:Kom sterren kijken bij het Huygens museum tijdens Museum Nacht (bui
 ten)
DESCRIPTION:Tijdens Museumnacht nodigt Volt Leidschendam-Voorburg je uit om
  sterren te kijken bij Huygensâ€™ Hofwijck\, het huis van twee van de groot
 ste denkers uit onze gemeente: Constantijn en Christiaan Huygens. Constanti
 jn was dichter\, componist en diplomaat. Hij werkte in dienst van prinsen Ă
 ©n van  Europa  avant la lettre: altijd zoekend naar  verbinding  tussen la
 nden en mensen. Zijn zoon Christiaan was een briljant natuurkundige\, de on
 tdekker van Saturnusâ€™ maan  Titan  en de uitvinder van het slingeruu
LOCATION:Huygens' Hofwijck (buiten\, voor het poortgebouw)
URL:https://voltnederland.org/zuid-holland/agenda/kom-sterren-bij-het-huyge
 ns-museum-tijdens-museum-nacht
END:VEVENT
END:VCALENDAR
