BEGIN:VCALENDAR
VERSION:2.0
PRODID:-//Volt Europa//Events//EN
CALSCALE:GREGORIAN
METHOD:PUBLISH
BEGIN:VEVENT
UID:kick-off-en-kennismaking-leiden-1756315800@voltnederland.org
DTSTAMP:20260423T114049Z
DTSTART;TZID=Europe/Amsterdam:20250827T193000
DTEND;TZID=Europe/Amsterdam:20250827T230000
SUMMARY:Kick-off en Kennismakingsavond kandidaten Leiden
DESCRIPTION:Leidenaren en Bollenstrekers! En natuurlijk ook een ieder ander
  die interesse heeft in onze lokale Volt community! Het is zover\, we gaan 
 beginnen! We laten jullie kennismaken met onze kandidaten en met de top 3 h
 ouden we 3 minuten debatjes. We zijn benieuwd hoe jij vindt dat ze het erva
 n af brengen. De Kancie krijgt hierdoor een nog beter beeld ter voorbereidi
 ng van het nog te geven advies over de lijst aan het afdelingsbestuur. Daar
 naast zal dit onze kick-off zijn voor de campagne van de aankom
LOCATION:'t Brandewijntje\, Morsweg 63\, Leiden
URL:https://voltnederland.org/zuid-holland/agenda/kick-off-en-kennismaking-
 leiden
END:VEVENT
END:VCALENDAR
