BEGIN:VCALENDAR
VERSION:2.0
PRODID:-//Volt Europa//Events//EN
CALSCALE:GREGORIAN
METHOD:PUBLISH
BEGIN:VEVENT
UID:kerstborrel-haag-en-rijnland-1765570500@voltnederland.org
DTSTAMP:20260423T174251Z
DTSTART;TZID=Europe/Amsterdam:20251212T211500
DTEND;TZID=Europe/Amsterdam:20251212T230000
SUMMARY:Kerstborrel Haag- en Rijnland
DESCRIPTION:Mooi moment om met je communitygenoten het jaar af te sluiten! 
 Voorafgaand aan de borrel is er een bijeenkomst over hoe je als actieve Vol
 ter de democratie beschermt en versterkt (Doe-mee-cratie).
LOCATION:Partijkantoor
URL:https://voltnederland.org/zuid-holland/agenda/kerstborrel-haag-en-rijnl
 and
END:VEVENT
END:VCALENDAR
