BEGIN:VCALENDAR
VERSION:2.0
PRODID:-//Volt Europa//Events//EN
CALSCALE:GREGORIAN
METHOD:PUBLISH
BEGIN:VEVENT
UID:jansdebat-europa-geopolitiek-naief-1717092000@voltnederland.org
DTSTAMP:20260423T115447Z
DTSTART;TZID=Europe/Amsterdam:20240530T200000
DTEND;TZID=Europe/Amsterdam:20240530T220000
SUMMARY:Jansdebat - Europa\, geopolitiek naïef!?
DESCRIPTION:De Europese verkiezingen vinden plaats op 6 juni dit jaar. In e
 en tijd waarin thema’s zoals veiligheid\, klimaat\, technologische ontwik
 kelingen\, privacy en onvrede een belangrijke rol spelen\, staan we als Eur
 opa voor een keuze. Wat betekent een veranderende wereld voor de toekomst v
 an de EU? Moet de macht van de Europese Unie worden afgeremd of moeten we b
 ewegen naar een pragmatisch en federaal Europa? In de Sint-Janskerk gaat on
 ze nummer 3\, Teun Janssen in debat met Harold Hooglander\, nummer 2 v
LOCATION:Sint-Janskerk Gouda
URL:https://voltnederland.org/zuid-holland/agenda/jansdebat-europa-geopolit
 iek-naief
END:VEVENT
END:VCALENDAR
