BEGIN:VCALENDAR
VERSION:2.0
PRODID:-//Volt Europa//Events//EN
CALSCALE:GREGORIAN
METHOD:PUBLISH
BEGIN:VEVENT
UID:inwoners-van-leidschendam-voorburg-doe-mee-aan-onze-cocreatie-175259880
 0@voltnederland.org
DTSTAMP:20260423T114714Z
DTSTART;TZID=Europe/Amsterdam:20250715T190000
DTEND;TZID=Europe/Amsterdam:20250715T210000
SUMMARY:Inwoners van Leidschendam-Voorburg: doe mee aan onze cocreatie
DESCRIPTION:ENGLISH BELOW Zoals velen van jullie weten\, is het Verbindings
 team (V-team) van Volt Leidschendam-Voorburg al enkele maanden actief in on
 ze gemeente met participatief actieonderzoek. Het doel: cocreatie tussen in
 woners stimuleren en zo de verbinding zoeken rondom een onderwerp dat steed
 s meer polariseert. De centrale vraag luidt:  hoe kunnen we de jaarwisselin
 g in onze gemeente op een nóg leukere en meer verbindende manier vieren? D
 it onderwerp is actueler dan ooit. De jaarwisseling roept steeds
LOCATION:Stadstuin Rusthout\, Leidschendam
URL:https://voltnederland.org/zuid-holland/agenda/inwoners-van-leidschendam
 -voorburg-doe-mee-aan-onze-cocreatie
END:VEVENT
END:VCALENDAR
