BEGIN:VCALENDAR
VERSION:2.0
PRODID:-//Volt Europa//Events//EN
CALSCALE:GREGORIAN
METHOD:PUBLISH
BEGIN:VEVENT
UID:interessante-avond-met-gaby-perin-gopie-bij-volt-leiden-1740594600@volt
 nederland.org
DTSTAMP:20260423T114550Z
DTSTART;TZID=Europe/Amsterdam:20250226T193000
DTEND;TZID=Europe/Amsterdam:20250226T223000
SUMMARY:Community borrel bij Volt Leiden.
DESCRIPTION:ENGLISH BELOW: De laatste borrel in januari was een waar succes
 . Volt Eerste Kamerlid Gaby Porin-Gopie kwam om te vertellen over haar erva
 ring in de Eerste Kamer en de weg naar deze positie. Goed om alle nieuwe ge
 zichten te zien en we kijken uit naar de volgende borrel.  Heb je deze avo
 nd gemist? Niet getreurd. Op woensdag 26 februari is er weer een borrel van
  Volt Leiden en Bollenstreek bij 't Brandewijntje\, vanaf 19.30 uur. Een mo
 oie kans om ons beter te leren kennen\, of je nu een nieuw lid\, a
LOCATION:'t Brandewijntje\, Morsweg 63\, 2332 EK Leiden
URL:https://voltnederland.org/zuid-holland/agenda/interessante-avond-met-ga
 by-perin-gopie-bij-volt-leiden
END:VEVENT
END:VCALENDAR
