BEGIN:VCALENDAR
VERSION:2.0
PRODID:-//Volt Europa//Events//EN
CALSCALE:GREGORIAN
METHOD:PUBLISH
BEGIN:VEVENT
UID:inspiratiesessie-lokale-democratie-volt-leidschendam-voorburg-173385540
 0@voltnederland.org
DTSTAMP:20260423T114714Z
DTSTART;TZID=Europe/Amsterdam:20241210T193000
DTEND;TZID=Europe/Amsterdam:20241210T223000
SUMMARY:Inspiratiesessie Lokale Democratie Volt Leidschendam-Voorburg
DESCRIPTION:Sluit het jaar af met een avond over lokale democratie en een k
 erstborrel! Kom op 10 december naar een inspirerende avond over lokale demo
 cratie. Luister naar ervaringen van inwoners en raadsleden. Verken belemmer
 ingen en uitdagingen die een democratisch proces in de weg kunnen staan. En
  doe je voordeel met de tips en voorbeelden die gedeeld worden!  ✨Na het 
 inhoudelijke programma nodigen we je uit om samen het glas te heffen tijden
 s een gezellige kerstborrel. Een mooie gelegenheid om na te prat
LOCATION:WRKshop Voorburg\, van de wateringelaan 1b\, 2274 CA
URL:https://voltnederland.org/agenda/inspiratiesessie-lokale-democratie-vol
 t-leidschendam-voorburg
END:VEVENT
END:VCALENDAR
