BEGIN:VCALENDAR
VERSION:2.0
PRODID:-//Volt Europa//Events//EN
CALSCALE:GREGORIAN
METHOD:PUBLISH
BEGIN:VEVENT
UID:informatiemiddag-gemeenteraadsverkiezingen-kandidatuur-1745064000@voltn
 ederland.org
DTSTAMP:20260423T114414Z
DTSTART;TZID=Europe/Amsterdam:20250419T140000
DTEND;TZID=Europe/Amsterdam:20250419T163000
SUMMARY:Informatiemiddag Gemeenteraadsverkiezingen & Kandidatuur
DESCRIPTION:Met de vacatures voor de gemeenteraadsverkiezingen geopend is h
 et een belangrijke periode! (Voor meer informatie kijk op  https://voltnede
 rland.org/zuid-holland/bestuur-haag-en-rijnland ) Daarom hebben we zaterdag
  19 april vanaf 14:00 een informatiemiddag bij ’t Brandewijntje\, Morsweg
  63 te Leiden\, over de Gemeenteraadsverkiezingen en over het kandidaat wor
 den in de gemeente Leiden namens Volt. Mocht je overwegen om kandidaat te w
 orden\, nog twijfelend\, of je wil op een andere manier betrokken ra
LOCATION:'t Brandewijntje\, Morsweg 63\, Leiden
URL:https://voltnederland.org/zuid-holland/agenda/informatiemiddag-gemeente
 raadsverkiezingen-kandidatuur
END:VEVENT
END:VCALENDAR
