BEGIN:VCALENDAR
VERSION:2.0
PRODID:-//Volt Europa//Events//EN
CALSCALE:GREGORIAN
METHOD:PUBLISH
BEGIN:VEVENT
UID:help-mee-met-volts-ludieke-actie-1751367600@voltnederland.org
DTSTAMP:20260423T114225Z
DTSTART;TZID=Europe/Amsterdam:20250701T130000
DTEND;TZID=Europe/Amsterdam:20250701T150000
SUMMARY:Help mee met Volt’s ludieke actie!
DESCRIPTION:ENGLISH BELOW Dinsdag 1 juli staan we met Volt op het Plein in 
 Den Haag\, op de heetste dag tot nu toe van dit jaar\, om paraplu’s uit t
 e delen. Niet omdat het regent\, maar om aandacht te vragen voor iets wat s
 teeds urgenter wordt: het vasthouden en benutten van regenwater in tijden v
 an klimaatverandering. Met nog veel warme dagen in het vooruitzicht\, wil V
 olt laten zien dat regenwater geen afval is\, maar een waardevolle bron om 
 onze stad te beschermen tegen hitte\, droogte en wateroverlast. Den Ha
LOCATION:Volt Partijkantoor – Koninginnegracht 7\, 2514 AA Den Haag
URL:https://voltnederland.org/zuid-holland/agenda/help-mee-met-volts-ludiek
 e-actie
END:VEVENT
END:VCALENDAR
