BEGIN:VCALENDAR
VERSION:2.0
PRODID:-//Volt Europa//Events//EN
CALSCALE:GREGORIAN
METHOD:PUBLISH
BEGIN:VEVENT
UID:haags-vrouwendebat-1716485400@voltnederland.org
DTSTAMP:20260423T102133Z
DTSTART;TZID=Europe/Amsterdam:20240523T193000
DTEND;TZID=Europe/Amsterdam:20240523T235900
SUMMARY:Haags Vrouwendebat
DESCRIPTION:In aanloop naar de Europese verkiezingen wordt er een debat geo
 rganiseerd. Vrouwelijke kandidaten van verschillende partijen gaan met elka
 ar het debat aan over Europa\, Nederland en Den Haag.
LOCATION:Theater van Buurthuis Samson\, van Ostadestraat 225\, Den Haag
URL:https://voltnederland.org/zuid-holland/agenda/haags-vrouwendebat
END:VEVENT
END:VCALENDAR
